BEGIN:VCALENDAR
VERSION:2.0
PRODID:-//wp-events-plugin.com//7.2.3.1//EN
TZID:America/New_York
X-WR-TIMEZONE:America/New_York
BEGIN:VEVENT
UID:748@broometiogaworks.com
DTSTART;TZID=America/New_York:20260430T170000
DTEND;TZID=America/New_York:20260430T183000
DTSTAMP:20260415T145218Z
URL:https://broometiogaworks.com/events/virtual-civil-service-workshop/
SUMMARY:VIRTUAL Civil Service Workshop
DESCRIPTION:\n\n\n\n\n\n\n\nJoin us for a free online webinar that breaks d
 own the New York State Civil Service Merit System in a clear and easy-to-u
 nderstand way.\n\nPerfect for job seekers\, college students\, and high sc
 hool students\, this session will explain how civil service works and how 
 to get started with a career in public service.\n\nTopics will include:\n\
 n• How the Civil Service Merit System works\n\n• The civil service exa
 m process\n\n• The NY HELPS program\n\n• Career pathways with New York
  State agencies\n\n• How to find and apply for internships\, fellowships
 \, and state jobs\n\nLearn how the system works\, explore career opportuni
 ties\, and get your questions answered.\n\nJoin us online and take the fir
 st step toward a career in public service.\n\nThis event is online and you
  must register at Demystifying the Civil Service Merit System Webinar Tick
 ets\, Thursday\, April 30  •  5 PM - 6:30 PM EDT | Eventbrite\n\n\n
CATEGORIES:Seminar/Workshops
LOCATION:https://www.eventbrite.com/e/demystifying-the-civil-service-merit-
 system-webinar-tickets-1987393221625?aff=oddtdtcreator
END:VEVENT
BEGIN:VTIMEZONE
TZID:America/New_York
X-LIC-LOCATION:America/New_York
BEGIN:DAYLIGHT
DTSTART:20260308T030000
TZOFFSETFROM:-0500
TZOFFSETTO:-0400
TZNAME:EDT
END:DAYLIGHT
END:VTIMEZONE
END:VCALENDAR