BEGIN:VCALENDAR
VERSION:2.0
PRODID:-//wp-events-plugin.com//7.2.3.1//EN
TZID:America/New_York
X-WR-TIMEZONE:America/New_York
BEGIN:VEVENT
UID:749@broometiogaworks.com
DTSTART;TZID=America/New_York:20260429T140000
DTEND;TZID=America/New_York:20260429T170000
DTSTAMP:20260420T130533Z
URL:https://broometiogaworks.com/events/the-chestnut-inn-career-fair/
SUMMARY:The Chestnut Inn Career Fair
DESCRIPTION:\n\nYou are invited to The Chestnut Inn Career Fair!\nThe follo
 wing businesses are looking to hire!\n\n 	Amphenol Aerospace\n 	Amphenol I
 PC\n 	Children's Home\n 	Intelligent Green Solutions\n 	Lactalis Heritage 
 Dairy Inc\n 	Mirabito Energy Products\n 	NYS Department of Corrections\n 	
 NYS State of Health\n 	NYS Department of Civil Service\n 	NYS Office for P
 eople with Developmental Disabilities\n 	NYS Parks\, Recreation and Histor
 ic Preservation\n 	Springbrook\n 	Sportsfield Specialties Inc\n 	The Arc o
 f Delaware County\n 	The Chestnut Inn\n 	Unified Court System\n 	United He
 alth Services\n 	Wagner Hardwoods\n 	and more!\n\nPlease bring several cop
 ies of your resume and dress professionally please.\n\nWHEN: Wednesday\, A
 pril 29 2pm-5pm\n\nWHERE: The Chestnut Inn\, 498 Oquaga Lake Road\, Deposi
 t\, NY 13754\n\n&nbsp\;
CATEGORIES:Hiring Events
LOCATION:The Chestnut Inn\, 498 Oquaga Lake Rd\, Deposit\, NY 13754\, Depos
 it\, NY\, 13754\, United States
X-APPLE-STRUCTURED-LOCATION;VALUE=URI;X-ADDRESS=498 Oquaga Lake Rd\, Deposi
 t\, NY 13754\, Deposit\, NY\, 13754\, United States;X-APPLE-RADIUS=100;X-T
 ITLE=The Chestnut Inn:geo:0,0
END:VEVENT
BEGIN:VTIMEZONE
TZID:America/New_York
X-LIC-LOCATION:America/New_York
BEGIN:DAYLIGHT
DTSTART:20260308T030000
TZOFFSETFROM:-0500
TZOFFSETTO:-0400
TZNAME:EDT
END:DAYLIGHT
END:VTIMEZONE
END:VCALENDAR